BEGIN:VCALENDAR
VERSION:2.0
PRODID:-//pretix//pretix.eu//
BEGIN:VTIMEZONE
TZID:Europe/Berlin
BEGIN:STANDARD
DTSTART:20001029T040000
RRULE:FREQ=YEARLY;BYDAY=-1SU;BYMONTH=10
TZNAME:CET
TZOFFSETFROM:+0200
TZOFFSETTO:+0100
END:STANDARD
BEGIN:DAYLIGHT
DTSTART:20000326T030000
RRULE:FREQ=YEARLY;BYDAY=-1SU;BYMONTH=3
TZNAME:CEST
TZOFFSETFROM:+0100
TZOFFSETTO:+0200
END:DAYLIGHT
END:VTIMEZONE
BEGIN:VEVENT
UID:pretix-svfellbach-tickets25-26-4708995@svfellbach.vereinsticket.de
DTSTART;TZID=Europe/Berlin:20251101T173000
DTEND;TZID=Europe/Berlin:20251101T183000
DESCRIPTION:Tickets: https://svfellbach.vereinsticket.de/tickets25-26/47089
 95/\nVeranstalter: SV Fellbach
DTSTAMP:20260419T194819Z
LOCATION:Gäuäcker-Sporthalle I\, Gäuäcker-Sporthalle I\, Bühlstraße 1
 41\, 70736 Fellbach
SUMMARY:SV Fellbach Flashers vs. CATL Basketball Löwen Erfurt
END:VEVENT
END:VCALENDAR
